Package: iSeq Version: 1.61.0 Command: /home/biocbuild/bbs-3.22-bioc/R/bin/R CMD INSTALL iSeq StartedAt: 2025-10-03 15:02:33 -0400 (Fri, 03 Oct 2025) EndedAt: 2025-10-03 15:02:52 -0400 (Fri, 03 Oct 2025) EllapsedTime: 18.9 seconds RetCode: 0 Status: OK