Package: iSeq Version: 1.61.0 Command: /home/biocbuild/bbs-3.22-bioc/R/bin/R CMD build --keep-empty-dirs --no-resave-data --md5 iSeq StartedAt: 2025-10-03 18:15:57 -0400 (Fri, 03 Oct 2025) EndedAt: 2025-10-03 18:16:16 -0400 (Fri, 03 Oct 2025) EllapsedTime: 19.0 seconds RetCode: 0 Status: OK PackageFile: iSeq_1.61.0.tar.gz PackageFileSize: 1.327 MiB