Package: iSEEtree Version: 1.5.0 Command: /home/biocbuild/bbs-3.23-bioc/R/bin/R CMD INSTALL iSEEtree StartedAt: 2025-11-11 16:01:19 -0500 (Tue, 11 Nov 2025) EndedAt: 2025-11-11 16:02:08 -0500 (Tue, 11 Nov 2025) EllapsedTime: 48.9 seconds RetCode: 0 Status: OK