Package: iSEEtree Version: 1.5.0 Command: /home/biocbuild/bbs-3.23-bioc/R/bin/R CMD build --keep-empty-dirs --no-resave-data iSEEtree StartedAt: 2025-11-11 18:19:06 -0500 (Tue, 11 Nov 2025) EndedAt: 2025-11-11 18:20:15 -0500 (Tue, 11 Nov 2025) EllapsedTime: 69.1 seconds RetCode: 0 Status: OK PackageFile: iSEEtree_1.5.0.tar.gz PackageFileSize: 7.536 MiB