Package: iClusterPlus Version: 1.47.0 Command: /Library/Frameworks/R.framework/Resources/bin/R CMD build --keep-empty-dirs --no-resave-data iClusterPlus StartedAt: 2025-11-18 17:20:13 -0500 (Tue, 18 Nov 2025) EndedAt: 2025-11-18 17:21:08 -0500 (Tue, 18 Nov 2025) EllapsedTime: 55.2 seconds RetCode: 0 Status: OK PackageFile: iClusterPlus_1.47.0.tar.gz PackageFileSize: 20.69 MiB