Package: iClusterPlus Version: 1.47.0 Command: rm -rf iClusterPlus.buildbin-libdir && mkdir iClusterPlus.buildbin-libdir && /Users/biocbuild/BBS/utils/build-universal.sh iClusterPlus_1.47.0.tar.gz /Library/Frameworks/R.framework/Resources/bin/R iClusterPlus.buildbin-libdir StartedAt: 2025-11-19 01:33:53 -0500 (Wed, 19 Nov 2025) EndedAt: 2025-11-19 01:34:54 -0500 (Wed, 19 Nov 2025) EllapsedTime: 61.2 seconds RetCode: 0 Status: OK PackageFile: iClusterPlus_1.47.0.tgz PackageFileSize: 16.15 MiB