Package: iClusterPlus Version: 1.47.0 Command: /Library/Frameworks/R.framework/Resources/bin/R CMD INSTALL iClusterPlus StartedAt: 2025-11-14 15:01:51 -0500 (Fri, 14 Nov 2025) EndedAt: 2025-11-14 15:02:05 -0500 (Fri, 14 Nov 2025) EllapsedTime: 13.6 seconds RetCode: 0 Status: OK