Package: iCheck Version: 1.39.0 Command: /home/biocbuild/bbs-3.22-bioc/R/bin/R CMD INSTALL iCheck StartedAt: 2025-10-17 16:00:37 -0400 (Fri, 17 Oct 2025) EndedAt: 2025-10-17 16:01:23 -0400 (Fri, 17 Oct 2025) EllapsedTime: 45.6 seconds RetCode: 0 Status: OK