Package: iCheck Version: 1.39.0 Command: /home/biocbuild/bbs-3.22-bioc/R/bin/R CMD build --keep-empty-dirs --no-resave-data --md5 iCheck StartedAt: 2025-10-17 18:07:12 -0400 (Fri, 17 Oct 2025) EndedAt: 2025-10-17 18:08:19 -0400 (Fri, 17 Oct 2025) EllapsedTime: 67.1 seconds RetCode: 0 Status: OK PackageFile: iCheck_1.39.0.tar.gz PackageFileSize: 560.9 KiB