Package: hypergraph Version: 1.83.0 Command: /home/biocbuild/bbs-3.23-bioc/R/bin/R CMD INSTALL hypergraph StartedAt: 2025-11-16 15:14:13 -0500 (Sun, 16 Nov 2025) EndedAt: 2025-11-16 15:14:16 -0500 (Sun, 16 Nov 2025) EllapsedTime: 3.9 seconds RetCode: 0 Status: OK