Package: hypergraph Version: 1.83.0 Command: /Library/Frameworks/R.framework/Resources/bin/R CMD build --keep-empty-dirs --no-resave-data hypergraph StartedAt: 2025-11-13 16:43:31 -0500 (Thu, 13 Nov 2025) EndedAt: 2025-11-13 16:43:32 -0500 (Thu, 13 Nov 2025) EllapsedTime: 1.0 seconds RetCode: 0 Status: OK PackageFile: hypergraph_1.83.0.tar.gz PackageFileSize: 8.271 KiB