Package: hyperdraw Version: 1.63.0 Command: /home/biocbuild/bbs-3.23-bioc/R/bin/R CMD INSTALL hyperdraw StartedAt: 2025-11-26 15:15:07 -0500 (Wed, 26 Nov 2025) EndedAt: 2025-11-26 15:15:12 -0500 (Wed, 26 Nov 2025) EllapsedTime: 4.9 seconds RetCode: 0 Status: OK