Package: hyperdraw Version: 1.63.0 Command: /Library/Frameworks/R.framework/Resources/bin/R CMD build --keep-empty-dirs --no-resave-data hyperdraw StartedAt: 2025-11-18 17:19:40 -0500 (Tue, 18 Nov 2025) EndedAt: 2025-11-18 17:19:56 -0500 (Tue, 18 Nov 2025) EllapsedTime: 16.0 seconds RetCode: 0 Status: OK PackageFile: hyperdraw_1.63.0.tar.gz PackageFileSize: 204.1 KiB