Package: hyperdraw Version: 1.63.0 Command: rm -rf hyperdraw.buildbin-libdir && mkdir hyperdraw.buildbin-libdir && /Users/biocbuild/BBS/utils/build-universal.sh hyperdraw_1.63.0.tar.gz /Library/Frameworks/R.framework/Resources/bin/R hyperdraw.buildbin-libdir StartedAt: 2025-11-20 01:38:04 -0500 (Thu, 20 Nov 2025) EndedAt: 2025-11-20 01:38:17 -0500 (Thu, 20 Nov 2025) EllapsedTime: 12.9 seconds RetCode: 0 Status: OK PackageFile: hyperdraw_1.63.0.tgz PackageFileSize: 390.3 KiB