Package: hyperdraw Version: 1.63.0 Command: /Library/Frameworks/R.framework/Resources/bin/R CMD INSTALL hyperdraw StartedAt: 2025-11-12 15:23:30 -0500 (Wed, 12 Nov 2025) EndedAt: 2025-11-12 15:23:32 -0500 (Wed, 12 Nov 2025) EllapsedTime: 2.1 seconds RetCode: 0 Status: OK