Package: hyperdraw Version: 1.63.0 Command: /Library/Frameworks/R.framework/Resources/bin/R CMD build --keep-empty-dirs --no-resave-data hyperdraw StartedAt: 2025-11-12 16:30:08 -0500 (Wed, 12 Nov 2025) EndedAt: 2025-11-12 16:30:13 -0500 (Wed, 12 Nov 2025) EllapsedTime: 5.1 seconds RetCode: 0 Status: OK PackageFile: hyperdraw_1.63.0.tar.gz PackageFileSize: 204.2 KiB