Package: hmdbQuery Version: 1.29.0 Command: /home/biocbuild/bbs-3.22-bioc/R/bin/R CMD INSTALL hmdbQuery StartedAt: 2025-09-30 15:13:17 -0400 (Tue, 30 Sep 2025) EndedAt: 2025-09-30 15:13:23 -0400 (Tue, 30 Sep 2025) EllapsedTime: 5.6 seconds RetCode: 0 Status: OK