Package: hierGWAS Version: 1.39.0 Command: /home/biocbuild/bbs-3.22-bioc/R/bin/R CMD INSTALL hierGWAS StartedAt: 2025-10-10 15:18:16 -0400 (Fri, 10 Oct 2025) EndedAt: 2025-10-10 15:18:44 -0400 (Fri, 10 Oct 2025) EllapsedTime: 27.7 seconds RetCode: 0 Status: OK