Package: hierGWAS Version: 1.39.0 Command: /home/biocbuild/bbs-3.22-bioc/R/bin/R CMD build --keep-empty-dirs --no-resave-data --md5 hierGWAS StartedAt: 2025-10-10 18:17:15 -0400 (Fri, 10 Oct 2025) EndedAt: 2025-10-10 18:18:47 -0400 (Fri, 10 Oct 2025) EllapsedTime: 92.1 seconds RetCode: 0 Status: OK PackageFile: hierGWAS_1.39.0.tar.gz PackageFileSize: 568.3 KiB