Package: hicVennDiagram Version: 1.7.3 Command: /home/biocbuild/bbs-3.22-bioc/R/bin/R CMD INSTALL hicVennDiagram StartedAt: 2025-10-27 15:29:31 -0400 (Mon, 27 Oct 2025) EndedAt: 2025-10-27 15:30:06 -0400 (Mon, 27 Oct 2025) EllapsedTime: 35.5 seconds RetCode: 0 Status: OK