Package: hicVennDiagram Version: 1.7.3 Command: /home/biocbuild/bbs-3.22-bioc/R/bin/R CMD build --keep-empty-dirs --no-resave-data --md5 hicVennDiagram StartedAt: 2025-10-27 18:07:18 -0400 (Mon, 27 Oct 2025) EndedAt: 2025-10-27 18:09:22 -0400 (Mon, 27 Oct 2025) EllapsedTime: 124.1 seconds RetCode: 0 Status: OK PackageFile: hicVennDiagram_1.7.3.tar.gz PackageFileSize: 1.125 MiB