Package: h5vc Version: 2.43.0 Command: /home/biocbuild/bbs-3.22-bioc/R/bin/R CMD INSTALL h5vc StartedAt: 2025-10-03 15:15:01 -0400 (Fri, 03 Oct 2025) EndedAt: 2025-10-03 15:15:20 -0400 (Fri, 03 Oct 2025) EllapsedTime: 19.0 seconds RetCode: 0 Status: OK