Package: h5vc Version: 2.43.0 Command: /home/biocbuild/bbs-3.22-bioc/R/bin/R CMD build --keep-empty-dirs --no-resave-data --md5 h5vc StartedAt: 2025-10-03 18:00:52 -0400 (Fri, 03 Oct 2025) EndedAt: 2025-10-03 18:04:44 -0400 (Fri, 03 Oct 2025) EllapsedTime: 232.3 seconds RetCode: 0 Status: OK PackageFile: h5vc_2.43.0.tar.gz PackageFileSize: 1.624 MiB