Package: graphite Version: 1.55.0 Command: /home/biocbuild/bbs-3.22-bioc/R/bin/R CMD INSTALL graphite StartedAt: 2025-10-08 15:37:08 -0400 (Wed, 08 Oct 2025) EndedAt: 2025-10-08 15:37:21 -0400 (Wed, 08 Oct 2025) EllapsedTime: 13.6 seconds RetCode: 0 Status: OK