Package: graphite Version: 1.55.0 Command: /home/biocbuild/bbs-3.22-bioc/R/bin/R CMD build --keep-empty-dirs --no-resave-data --md5 graphite StartedAt: 2025-10-09 18:02:42 -0400 (Thu, 09 Oct 2025) EndedAt: 2025-10-09 18:03:37 -0400 (Thu, 09 Oct 2025) EllapsedTime: 55.0 seconds RetCode: 0 Status: OK PackageFile: graphite_1.55.0.tar.gz PackageFileSize: 767.5 KiB