Package: gpls Version: 1.83.0 Command: /home/biocbuild/bbs-3.23-bioc/R/bin/R CMD INSTALL gpls StartedAt: 2025-11-21 15:02:51 -0500 (Fri, 21 Nov 2025) EndedAt: 2025-11-21 15:02:54 -0500 (Fri, 21 Nov 2025) EllapsedTime: 3.4 seconds RetCode: 0 Status: OK