Package: gpls Version: 1.83.0 Command: /Library/Frameworks/R.framework/Resources/bin/R CMD INSTALL gpls StartedAt: 2025-11-18 15:09:18 -0500 (Tue, 18 Nov 2025) EndedAt: 2025-11-18 15:09:31 -0500 (Tue, 18 Nov 2025) EllapsedTime: 12.8 seconds RetCode: 0 Status: OK