Package: gpls Version: 1.83.0 Command: /Library/Frameworks/R.framework/Resources/bin/R CMD build --keep-empty-dirs --no-resave-data gpls StartedAt: 2025-11-19 17:13:53 -0500 (Wed, 19 Nov 2025) EndedAt: 2025-11-19 17:14:09 -0500 (Wed, 19 Nov 2025) EllapsedTime: 16.0 seconds RetCode: 0 Status: OK PackageFile: gpls_1.83.0.tar.gz PackageFileSize: 232.9 KiB