Package: gpls Version: 1.83.0 Command: rm -rf gpls.buildbin-libdir && mkdir gpls.buildbin-libdir && /Users/biocbuild/BBS/utils/build-universal.sh gpls_1.83.0.tar.gz /Library/Frameworks/R.framework/Resources/bin/R gpls.buildbin-libdir StartedAt: 2025-11-20 01:36:17 -0500 (Thu, 20 Nov 2025) EndedAt: 2025-11-20 01:36:23 -0500 (Thu, 20 Nov 2025) EllapsedTime: 5.8 seconds RetCode: 0 Status: OK PackageFile: gpls_1.83.0.tgz PackageFileSize: 295.3 KiB