Package: gpls Version: 1.83.0 Command: /Library/Frameworks/R.framework/Resources/bin/R CMD build --keep-empty-dirs --no-resave-data gpls StartedAt: 2025-11-13 16:36:24 -0500 (Thu, 13 Nov 2025) EndedAt: 2025-11-13 16:36:29 -0500 (Thu, 13 Nov 2025) EllapsedTime: 5.1 seconds RetCode: 0 Status: OK PackageFile: gpls_1.83.0.tar.gz PackageFileSize: 233.3 KiB