Package: goseq Version: 1.61.1 Command: /home/biocbuild/bbs-3.22-bioc/R/bin/R CMD INSTALL goseq StartedAt: 2025-10-07 15:44:19 -0400 (Tue, 07 Oct 2025) EndedAt: 2025-10-07 15:44:54 -0400 (Tue, 07 Oct 2025) EllapsedTime: 35.4 seconds RetCode: 0 Status: OK