Package: goseq Version: 1.61.1 Command: /home/biocbuild/bbs-3.22-bioc/R/bin/R CMD build --keep-empty-dirs --no-resave-data --md5 goseq StartedAt: 2025-10-07 17:58:25 -0400 (Tue, 07 Oct 2025) EndedAt: 2025-10-07 18:01:56 -0400 (Tue, 07 Oct 2025) EllapsedTime: 211.2 seconds RetCode: 0 Status: OK PackageFile: goseq_1.61.1.tar.gz PackageFileSize: 1.831 MiB