Package: globalSeq Version: 1.37.0 Command: /home/biocbuild/bbs-3.22-bioc/R/bin/R CMD INSTALL globalSeq StartedAt: 2025-10-01 15:08:45 -0400 (Wed, 01 Oct 2025) EndedAt: 2025-10-01 15:09:19 -0400 (Wed, 01 Oct 2025) EllapsedTime: 34.1 seconds RetCode: 0 Status: OK