Package: glmSparseNet Version: 1.29.0 Command: /home/biocbuild/bbs-3.23-bioc/R/bin/R CMD build --keep-empty-dirs --no-resave-data glmSparseNet StartedAt: 2025-11-07 17:48:10 -0500 (Fri, 07 Nov 2025) EndedAt: 2025-11-07 17:51:55 -0500 (Fri, 07 Nov 2025) EllapsedTime: 225.1 seconds RetCode: 0 Status: OK PackageFile: glmSparseNet_1.29.0.tar.gz PackageFileSize: 2.817 MiB