Package: ggtreeExtra Version: 1.19.1 Command: /home/biocbuild/bbs-3.22-bioc/R/bin/R CMD INSTALL ggtreeExtra StartedAt: 2025-10-05 15:09:57 -0400 (Sun, 05 Oct 2025) EndedAt: 2025-10-05 15:10:04 -0400 (Sun, 05 Oct 2025) EllapsedTime: 7.2 seconds RetCode: 0 Status: OK