Package: ggtreeExtra Version: 1.19.1 Command: /home/biocbuild/bbs-3.22-bioc/R/bin/R CMD build --keep-empty-dirs --no-resave-data --md5 ggtreeExtra StartedAt: 2025-10-05 17:54:00 -0400 (Sun, 05 Oct 2025) EndedAt: 2025-10-05 17:54:21 -0400 (Sun, 05 Oct 2025) EllapsedTime: 21.0 seconds RetCode: 0 Status: OK PackageFile: ggtreeExtra_1.19.1.tar.gz PackageFileSize: 527.4 KiB