Package: ggtree Version: 3.99.0 Command: /home/biocbuild/R/R/bin/R CMD INSTALL ggtree StartedAt: 2025-10-02 20:28:49 -0000 (Thu, 02 Oct 2025) EndedAt: 2025-10-02 20:29:32 -0000 (Thu, 02 Oct 2025) EllapsedTime: 43.1 seconds RetCode: 0 Status: OK