Package: ggtree Version: 3.99.0 Command: /home/biocbuild/R/R/bin/R CMD build --keep-empty-dirs --no-resave-data ggtree StartedAt: 2025-10-03 00:16:58 -0000 (Fri, 03 Oct 2025) EndedAt: 2025-10-03 00:17:18 -0000 (Fri, 03 Oct 2025) EllapsedTime: 20.0 seconds RetCode: 0 Status: OK PackageFile: ggtree_3.99.0.tar.gz PackageFileSize: 358.1 KiB