Package: ggtree Version: 4.1.1 Command: /home/biocbuild/bbs-3.23-bioc/R/bin/R CMD INSTALL ggtree StartedAt: 2025-11-14 15:11:14 -0500 (Fri, 14 Nov 2025) EndedAt: 2025-11-14 15:11:26 -0500 (Fri, 14 Nov 2025) EllapsedTime: 11.8 seconds RetCode: 0 Status: OK