Package: ggseqalign Version: 1.3.0 Command: /home/biocbuild/bbs-3.22-bioc/R/bin/R CMD INSTALL ggseqalign StartedAt: 2025-09-30 15:51:04 -0400 (Tue, 30 Sep 2025) EndedAt: 2025-09-30 15:51:17 -0400 (Tue, 30 Sep 2025) EllapsedTime: 12.4 seconds RetCode: 0 Status: OK