Package: ggseqalign Version: 1.3.0 Command: /home/biocbuild/bbs-3.22-bioc/R/bin/R CMD build --keep-empty-dirs --no-resave-data --md5 ggseqalign StartedAt: 2025-09-30 17:50:09 -0400 (Tue, 30 Sep 2025) EndedAt: 2025-09-30 17:50:39 -0400 (Tue, 30 Sep 2025) EllapsedTime: 30.0 seconds RetCode: 0 Status: OK PackageFile: ggseqalign_1.3.0.tar.gz PackageFileSize: 728 KiB