Back to Build/check report for BioC 3.23:   simplified   long
ABCDEF[G]HIJKLMNOPQRSTUVWXYZ

This page was generated on 2025-11-01 11:32 -0400 (Sat, 01 Nov 2025).

HostnameOSArch (*)R versionInstalled pkgs
nebbiolo1Linux (Ubuntu 24.04.3 LTS)x86_64R Under development (unstable) (2025-10-20 r88955) -- "Unsuffered Consequences" 4774
Click on any hostname to see more info about the system (e.g. compilers)      (*) as reported by 'uname -p', except on Windows and Mac OS X

All results for package geneplotter


To the developers/maintainers of the geneplotter package:
- Allow up to 24 hours (and sometimes 48 hours) for your latest push to git@git.bioconductor.org:packages/geneplotter.git to reflect on this report. See Troubleshooting Build Report for more information.
- Use the following Renviron settings to reproduce errors and warnings.
- If 'R CMD check' started to fail recently on the Linux builder(s) over a missing dependency, add the missing dependency to 'Suggests:' in your DESCRIPTION file. See Renviron.bioc for more information.

raw results

Package 814/2321HostnameOS / ArchINSTALLBUILDCHECKBUILD BIN
geneplotter 1.89.0  (landing page)
Bioconductor Package Maintainer
Snapshot Date: 2025-10-31 13:40 -0400 (Fri, 31 Oct 2025)
git_url: https://git.bioconductor.org/packages/geneplotter
git_branch: devel
git_last_commit: 0a5a7d6
git_last_commit_date: 2025-10-29 09:41:50 -0400 (Wed, 29 Oct 2025)
nebbiolo1Linux (Ubuntu 24.04.3 LTS) / x86_64  OK    OK    OK  YES



Results for Bioconductor software packages that depend directly on package geneplotter

QUICK STATSOS / ArchINSTALLBUILDCHECKBUILD BIN
nebbiolo1Linux (Ubuntu 24.04.3 LTS) / x86_64
004
004
0103
Package 1/4HostnameOS / ArchINSTALLBUILDCHECKBUILD BIN
biocGraph 1.73.0  (landing page)
Florian Hahne
git_last_commit: 68d8be3
git_last_commit_date: 2025-10-29 09:59:36 -0400
nebbiolo1Linux (Ubuntu 24.04.3 LTS) / x86_64  OK    OK    OK  YES
Package 2/4HostnameOS / ArchINSTALLBUILDCHECKBUILD BIN
DEXSeq 1.57.0  (landing page)
Alejandro Reyes
git_last_commit: db6ed7c
git_last_commit_date: 2025-10-29 10:07:54 -0400
nebbiolo1Linux (Ubuntu 24.04.3 LTS) / x86_64  OK    OK    OK  YES
Package 3/4HostnameOS / ArchINSTALLBUILDCHECKBUILD BIN
ENmix 1.47.0  (landing page)
Zongli Xu
git_last_commit: 3ce4b4c
git_last_commit_date: 2025-10-29 10:25:39 -0400
nebbiolo1Linux (Ubuntu 24.04.3 LTS) / x86_64  OK    OK    ERROR  
Package 4/4HostnameOS / ArchINSTALLBUILDCHECKBUILD BIN
MethylSeekR 1.51.0  (landing page)
Lukas Burger
git_last_commit: 045c8f7
git_last_commit_date: 2025-10-29 10:13:29 -0400
nebbiolo1Linux (Ubuntu 24.04.3 LTS) / x86_64  OK    OK    OK  NO, package depends on 'rtracklayer' which is not available