Package: gemma.R Version: 3.7.0 Command: /home/biocbuild/bbs-3.23-bioc/R/bin/R CMD INSTALL gemma.R StartedAt: 2025-11-21 15:18:40 -0500 (Fri, 21 Nov 2025) EndedAt: 2025-11-21 15:18:45 -0500 (Fri, 21 Nov 2025) EllapsedTime: 5.2 seconds RetCode: 0 Status: OK