Package: gemma.R Version: 3.7.0 Command: /home/biocbuild/bbs-3.23-bioc/R/bin/R CMD build --keep-empty-dirs --no-resave-data gemma.R StartedAt: 2025-11-21 17:43:06 -0500 (Fri, 21 Nov 2025) EndedAt: 2025-11-21 17:47:33 -0500 (Fri, 21 Nov 2025) EllapsedTime: 267.3 seconds RetCode: 0 Status: OK PackageFile: gemma.R_3.7.0.tar.gz PackageFileSize: 2.284 MiB