Package: gemma.R Version: 3.7.0 Command: /Library/Frameworks/R.framework/Resources/bin/R CMD build --keep-empty-dirs --no-resave-data gemma.R StartedAt: 2025-11-20 17:06:11 -0500 (Thu, 20 Nov 2025) EndedAt: 2025-11-20 17:10:46 -0500 (Thu, 20 Nov 2025) EllapsedTime: 275.7 seconds RetCode: 0 Status: OK PackageFile: gemma.R_3.7.0.tar.gz PackageFileSize: 2.148 MiB