Package: gemma.R Version: 3.7.0 Command: /Library/Frameworks/R.framework/Resources/bin/R CMD build --keep-empty-dirs --no-resave-data gemma.R StartedAt: 2025-11-13 16:28:23 -0500 (Thu, 13 Nov 2025) EndedAt: 2025-11-13 16:31:51 -0500 (Thu, 13 Nov 2025) EllapsedTime: 208.3 seconds RetCode: 0 Status: OK PackageFile: gemma.R_3.7.0.tar.gz PackageFileSize: 2.149 MiB