Package: gemma.R Version: 3.7.0 Command: rm -rf gemma.R.buildbin-libdir && mkdir gemma.R.buildbin-libdir && /Users/biocbuild/BBS/utils/build-universal.sh gemma.R_3.7.0.tar.gz /Library/Frameworks/R.framework/Resources/bin/R gemma.R.buildbin-libdir StartedAt: 2025-11-14 23:33:55 -0500 (Fri, 14 Nov 2025) EndedAt: 2025-11-14 23:33:59 -0500 (Fri, 14 Nov 2025) EllapsedTime: 4.1 seconds RetCode: 0 Status: OK PackageFile: gemma.R_3.7.0.tgz PackageFileSize: 2.367 MiB