Package: gemini Version: 1.23.0 Command: /home/biocbuild/bbs-3.22-bioc/R/bin/R CMD INSTALL gemini StartedAt: 2025-10-08 15:19:59 -0400 (Wed, 08 Oct 2025) EndedAt: 2025-10-08 15:20:15 -0400 (Wed, 08 Oct 2025) EllapsedTime: 16.2 seconds RetCode: 0 Status: OK