Package: gcapc Version: 1.33.1 Command: /home/biocbuild/bbs-3.22-bioc/R/bin/R CMD INSTALL gcapc StartedAt: 2025-10-20 15:26:44 -0400 (Mon, 20 Oct 2025) EndedAt: 2025-10-20 15:27:13 -0400 (Mon, 20 Oct 2025) EllapsedTime: 29.5 seconds RetCode: 0 Status: OK