Package: gatom Version: 1.7.0 Command: /home/biocbuild/bbs-3.22-bioc/R/bin/R CMD INSTALL gatom StartedAt: 2025-10-01 15:30:58 -0400 (Wed, 01 Oct 2025) EndedAt: 2025-10-01 15:31:21 -0400 (Wed, 01 Oct 2025) EllapsedTime: 22.9 seconds RetCode: 0 Status: OK